BEGIN:VCALENDAR
VERSION:2.0
PRODID:Events Booking
BEGIN:VEVENT
UID:69ea4086bdc08
SUMMARY:Curso Básico de Libras - Maio
DESCRIPTION:O Curso tem como objetivo desenvolver habilidades de inclusão 
 de surdos\, com estrutura bilíngue\, explorando vocabulários da Língua 
 Brasileira de Sinais (LIBRAS) e diversas situações cotidianas. Possibili
 tará\, também\, o conhecimento da cultura surda\, a produção de materi
 ais acessíveis e a melhor comunicação com o surdo. O curso é direciona
 do ao público em geral.
 &nbsp\;Para receber o certificado\, ao final do
  curso\, o aluno precisará ter feito sua inscrição em todos os módulos
  e ter frequência mínima de 75%.
 O curso só será realizado após&nbs
 p\;a inscrição de\, no mínimo\, 20 alunos.
 Não é necessario efetuar
  o pagamento de todos os módulos do curso no ato da inscrição. Todos os
  alunos podem realizar a inscrição em cada módulo\, mensalmente\, antes
  do início deste.
 No primeiro dia de aula\, deverá ser efetuado presen
 cialmente o pagamento da taxa de material: R$ 80\,00.
 O curso acontecer
 á em todos os sábados\, a partir de 16/03/2024\, das 08:30 às 10:30
 
 
 &nbsp\;
LOCATION:Av. Gentil Bittencourt\, 1144.
DTSTART:20240504T113000Z
DTEND:20240525T133000Z
DTSTAMP:20240118T233459Z
ORGANIZER;CN=Portal de Eventos - Centro Universitário Fibra:MAILTO:eventos
 @fibrapara.edu.br
GEO:-1.455183;-48.482397
X-APPLE-STRUCTURED-LOCATION;VALUE=URI;X-ADDRESS=Av. Gentil Bittencourt\, 11
 44.;X-APPLE-RADIUS=72;X-TITLE=Centro Universitário Fibra:-1.455183;-48.48
 2397
END:VEVENT
END:VCALENDAR