BEGIN:VCALENDAR
VERSION:2.0
PRODID:Events Booking
BEGIN:VEVENT
UID:69e9ff26b6f3c
SUMMARY:4º SEMINÁRIO CONTRA O RACISMO
DESCRIPTION:FEIRA AFRO
 Como parte da Programação alusiva ao Dia da Cons
 ciência Negra\, o Movimento Afrodescendente do Pará – MOCAMBO\, vem re
 alizando uma série de atividades durante o mês de novembro. Uma delas di
 z respeito à realização do 4º SEMINÁRIO CONTRA O RACISMO\, em parceri
 a com o Centro Universitário Fibra\, por meio do Curso de Psicologia. O S
 eminário será realizado no dia 25/11/2024\, de 08 às 13h.\, no auditór
 io da IES. Os participantes terão direito à certificação e 04h em Ativ
 idades Complementares\, com inscrições gratuitas.
 CONVIDADAS:
 1- And
 reza Oliveira Gomes. Estudante de Psicologia (4° semestre – Fibra)
 2-
  Aline Queiroz. Psicóloga\, Pós-graduanda em Promoção de Políticas P
 úblicas em Gênero e sexualidade na Amazônia pelo PPGDDA/UFPA\, mestrand
 a em Psicologia (PPGP)\, membro na&nbsp\; LACIGS+\, projeto Papaxibé\, gr
 upo de estudos Corporalidades. Facilitadora de círculos de paz pelo Tribu
 nal de Justiça do Pará (TJPA/CEIJ)\, com experiência em grupos reflexiv
 os para população LGBTQIAP+ (Lugar de fala\, Projeto Sobre Bem Viver).

  3- Igina Mota Sales. Quilombola que vive no contexto urbano. Gestora Ambi
 ental. Educadora Sócio Ambiental. Empreendedora Social. Ativista Feminist
 a Negra Amazônida do NÚCLEO MOCAMBO BELÉM\; da AMB – Articulação de
  Mulheres Brasileiras\; do FMAP –Fórum de Mulheres da Amazônia Paraens
 e\; do FPEPS – Fórum Paraense de Economia Pop. e Solidaria e Fórum Mun
 icipal sobre Mudanças Climáticas
 
LOCATION:Av. Gentil Bittencourt\, 1144.
DTSTART:20241125T110000Z
DTEND:20241125T160000Z
DTSTAMP:20241121T145016Z
ORGANIZER;CN=Portal de Eventos - Centro Universitário Fibra:MAILTO:eventos
 @fibrapara.edu.br
GEO:-1.455183;-48.482397
X-APPLE-STRUCTURED-LOCATION;VALUE=URI;X-ADDRESS=Av. Gentil Bittencourt\, 11
 44.;X-APPLE-RADIUS=72;X-TITLE=Centro Universitário Fibra:-1.455183;-48.48
 2397
END:VEVENT
END:VCALENDAR