BEGIN:VCALENDAR
VERSION:2.0
PRODID:Events Booking
BEGIN:VEVENT
UID:69e9fe895a729
SUMMARY:IV MOSTRA DE EXTENSÃO DA CURRICULARIZAÇÃO: inovações tecnológ
 icas na enfermagem para sustentabilidade social
DESCRIPTION:Temos a honra de apresentar a IV mostra de Extensão da Curricu
 larização\, um marco acadêmico que integra pesquisa\, ensino e extensã
 o sob o tema Inovações Tecnológicas na Enfermagem. O evento visa demons
 trar a capacidade de nossos estudantes de desenvolver soluções inovadora
 s e aplicáveis para os desafios contemporâneos da saúde. Nossos alunos 
 dos diferentes semestres (4º\, 6º e 8º) irão expor produtos e protóti
 pos que refletem a profundidade dos seussubtemas: desde as contribuições
  da tecnologia na Educação em Saúde\, passando pelo seu uso estratégic
 o na Gestão e Processo de Trabalho\, até a exploração de Tecnologias E
 mergentes na pesquisa clínica. Convidamos a comunidade acadêmica e profi
 ssional a prestigiar a apresentação de aplicativos\, dispositivos de IA\
 , soluções de Realidade Virtual e protótipos de robótica que moldarão
  a Enfermagem do amanhã.
 
DTSTART:20251028T110000Z
DTEND:20251030T030000Z
DTSTAMP:20251008T014525Z
ORGANIZER;CN=Portal de Eventos - Centro Universitário Fibra:MAILTO:eventos
 @fibrapara.edu.br
END:VEVENT
END:VCALENDAR