BEGIN:VCALENDAR
VERSION:2.0
PRODID:Events Booking
BEGIN:VEVENT
UID:69e930aef2c2c
SUMMARY:IV Circuito Linguístico
DESCRIPTION:Acontecerá no dia 7 de maio de 2025\, a partir das 18h50\, no 
 Auditório do Centro Universitário Fibra\, a quarta edição do Circuito 
 Linguístico\, promovido pelo Curso de Letras Licenciatura desta Institui
 ção.
 A edição de 2025 do evento será toda dedicada à Língua Ingle
 sa. Além de atrações culturais e apresentações de comunicações dos 
 alunos\, haverá a palestra Inglês na COP 30: Comunicação\, Tradução 
 e Reflexões Interculturais\, ministrada pela Profa. Dra. Sílvia Benchimo
 l Barros.
 
LOCATION:Av. Gentil Bittencourt\, 1144.
DTSTART:20250507T215000Z
DTEND:20250508T010000Z
DTSTAMP:20250506T131436Z
ORGANIZER;CN=Portal de Eventos - Centro Universitário Fibra:MAILTO:eventos
 @fibrapara.edu.br
GEO:-1.455183;-48.482397
X-APPLE-STRUCTURED-LOCATION;VALUE=URI;X-ADDRESS=Av. Gentil Bittencourt\, 11
 44.;X-APPLE-RADIUS=72;X-TITLE=Centro Universitário Fibra:-1.455183;-48.48
 2397
END:VEVENT
END:VCALENDAR