BEGIN:VCALENDAR
VERSION:2.0
PRODID:Events Booking
BEGIN:VEVENT
UID:69e906e0b47d3
SUMMARY:4ª Caminhada de Valorização do Exercício verde
DESCRIPTION:4ª Caminhada de Valorização do Exercício Verde - Centro Uni
 versitário FibraO Centro Universitário Fibra tem o prazer de convidar a 
 comunidade acadêmica e o público em geral para a 4ª Caminhada de Valori
 zação do Exercício Verde\, um evento que une atividade física\, bem-es
 tar e sustentabilidade.A Caminhada de Valorização do Exercício Verde é
  uma iniciativa do curso de Fisioterapia que busca incentivar a prática d
 e atividades ao ar livre\, promovendo saúde e conscientização ambiental
 . Durante o percurso\, os participantes poderão desfrutar do contato com 
 a natureza\, reforçando a importância da preservação ambiental e do es
 tilo de vida ativo.ObjetivosIncentivar a prática de exercícios físicos 
 em ambientes naturais\;Promover a conscientização ambiental e a valoriza
 ção dos espaços verdes\;Integrar a comunidade acadêmica e a sociedade 
 em um evento de bem-estar\;Reforçar a importância da sustentabilidade e 
 da preservação&nbsp\;ambiental.
 Coordenação: Profas. Iranete Corpes 
 Oliveira França e Márcia&nbsp\;Bandeira
 
LOCATION:Av. João Paulo II\, s/n
DTSTART:20250405T100000Z
DTEND:20250405T030000Z
DTSTAMP:20250326T142316Z
ORGANIZER;CN=Portal de Eventos - Centro Universitário Fibra:MAILTO:eventos
 @fibrapara.edu.br
GEO:-1.425576;-48.443629
X-APPLE-STRUCTURED-LOCATION;VALUE=URI;X-ADDRESS=Av. João Paulo II\, s/n;X-
 APPLE-RADIUS=72;X-TITLE=Parque Estadual do Utinga:-1.425576;-48.443629
END:VEVENT
END:VCALENDAR