BEGIN:VCALENDAR
VERSION:2.0
PRODID:Events Booking
BEGIN:VEVENT
UID:69e9f8eb9f363
SUMMARY:III Júri Experience: Vivências
DESCRIPTION:III Júri Experience:&nbsp\;Vivências
 &nbsp\;
 Organizaçã
 o:
 Prof.ª Shelley PrimoProf.ª Ana Luiza LealProf. Robinson Pinheiro
 
LOCATION:Av. Gentil Bittencourt\, 1144.
DTSTART:20240826T220000Z
DTEND:20240827T000000Z
DTSTAMP:20240817T202245Z
ORGANIZER;CN=Portal de Eventos - Centro Universitário Fibra:MAILTO:eventos
 @fibrapara.edu.br
GEO:-1.455183;-48.482397
X-APPLE-STRUCTURED-LOCATION;VALUE=URI;X-ADDRESS=Av. Gentil Bittencourt\, 11
 44.;X-APPLE-RADIUS=72;X-TITLE=Centro Universitário Fibra:-1.455183;-48.48
 2397
END:VEVENT
END:VCALENDAR