BEGIN:VCALENDAR
VERSION:2.0
PRODID:Events Booking
BEGIN:VEVENT
UID:69ea26173dc68
SUMMARY:Submissão de Trabalhos
DESCRIPTION:ABERTURA PARA SUBMISSÃO DE PÔSTERES E ARTIGOS CIENTÍFICOS
 
 O Reitor do Centro Universitário Fibra\, credenciada pela Portaria Nº 55
 \, de 14 de janeiro de 2020\, no uso de suas atribuições que lhe confere
 m o Estatuto e o Regimento\, por intermédio da Coordenação do Curso de 
 Direito juntamente com a Comissão Científica da XXVII JORNADA JURÍDICA\
 , em parceria com as Ligas Acadêmicas LADIM e LAED\, convida alunos de gr
 aduação e de pós-graduação\, egressos da Fibra\, pesquisadores e o p
 úblico em geral\, para submeterem Posteres e/ou Artigos para o evento\, q
 ue será realizado no dia 22 de outubro de 2025\, com o tema JUSTIÇA CLIM
 ÁTICA E AS CIDADES: Os Desafios Jurídicos da Amazônia Como Palco da Gov
 ernança Ambiental Global.
 1. DO CRONOGRAMA1.1 Submissão dos trabalhos 
 (Pôsteres e/ou Artigos): até o dia 06.10.2025\, por meio de linkhttps://
 fibrapara.net/eventos/index.php/direito/27jj-submissao .1.2 Divulgação d
 os aprovados: 13.10.2023.1.3 A exposição dos trabalhos selecionados ocor
 rerá no dia 22.10.2025\, no hall em frente ao auditório.2. DA SUBMISSÃO
  DOS TRABALHOS2.1 Podem ser submetidos trabalhos científicos desenvolvido
 s por acadêmicos ou profissionais das áreas de Direito e áreas afins\, 
 em uma das seguintes modalidades: PÔSTER e/ou ARTIGO.2.2 Cada autor poder
 á enviar no máximo três trabalhos por modalidade\, sendo que as propost
 as não precisam ser inéditas. O limite de coautores(as) de cada trabalho
  é de três pessoas (três autores ou dois autores e orientador\, se houv
 er).2.3 Antes de submeter o trabalho é obrigatório que os autores façam
  revisão gramatical\, ortográfica\, de digitação e de conteúdo em tod
 os os dados do trabalho (incluindo nomes dos autores\, título\, etc.).2.4
  Após a submissão não será permitido corrigir ou substituir quaisquer 
 dados.
 3. DA ACEITAÇÃO DOS TRABALHOS PELA COMISSÃO CIENTÍFICA3.1 A C
 omissão Científica (ANEXO II)\, formada por Grupos de Trabalhos (GT’s)
 \, considerará o envio dos trabalhos como participação voluntária e gr
 atuita dos autores e coautores\, com a consequente autorização para publ
 icação dos trabalhos aprovados.3.2 Cada trabalho será classificado como
  Aprovado ou Não Recomendado\, cujo resultado será divulgado no dia 13.1
 0.2025 contendo a relação dos Aprovados.
 4. DOS PÔSTERES4.1 Entende-s
 e por pôster como sendo recurso visual a partir do qual o pesquisador apr
 esenta uma síntese das informações mais relevantes da pesquisa realizad
 a ou em andamento (modelo ANEXO I).4.2 O Pôster deverá obedecer às segu
 intes orientações para produção:• Formato: 1\,10m de altura x 90cm d
 e largura (posição vertical)\, preferencialmetne de vinil\, com um cord
 ão na parte superior para pendurar.• Conteúdo:Título em destaque (mai
 úsculas)\;Nome do(s) autor(es) e orientador (se tiver)\;No corpo do pôst
 er:a) Introdução\;b) Problema de pesquisa\;c) Objetivo\;d) Método\;e) R
 esultados alcançados\;f) Referências utilizadas.4.3 Os pôsteres deverã
 o observar os seguintes dados:a) Linha de pesquisa (ANEXO III)\;b) Texto c
 om o máximo de 1000 palavras\, excluindo-se as identificações e referê
 ncias\;c) Inclusão de três palavras chave\;d) Referências citadas no te
 xto de acordo com as normas da ABNT.4.4 A confecção\, transporte\, expos
 ição e retirada do pôster será de inteira responsabilidade do(s) autor
 (es)\, cabendo a este(s)\, a fixação e sua retirada no respectivo dia pr
 evisto.
 5. DOS ARTIGOS CIENTÍFICOS5.1 Para submissão\, em PDF\, os art
 igos deverão apresentar resultados de trabalho\, experiências\, pesquisa
 s e projetos\, obedecendo os seguintes critérios:a) Formato e normatizaç
 ão: papel tamanho A4\, fonte Arial\, tamanho 12. Espaçamento entrelinhas
  deve ser 1\,5 e margem de 3 cm na superior e esquerda e 2 cm na inferior 
 e direita. Deverá conter de 10 a 15 laudas.b) Conteúdo: os trabalhos dev
 erão conter a logo do Centro Universitario Fibra\, título em letra maiú
 scula\, em negrito\; em caso de subtítulo\, após os dois pontos deverá 
 a primeira letra iniciar com maiúscula\; conter breve resumo (10 linhas n
 o máximo) e palavras-chave (de 3 a 5palavras).No corpo do artigo deverá 
 observar\, além do exposto acima:a) Introdução\;b) Fundamentação teó
 rica\;c) Metodologia\;d) Análise e discussão dos resultados\; e\,e) Refe
 rências utilizadas\, com base Norma Brasileira em vigor da Associação B
 rasileira de Normas Técnicas (ABNT). As citações de textos de outros au
 tores deverão ser feitas de acordo com NBR 10520 atualizada.5.2 Para expo
 sição\, os artigos aprovados deverão ser impressos no tamanho A3.
 6. 
 DAS DISPOSIÇÕES FINAIS6.1 É de inteira responsabilidade do proponente a
 companhar todas as publicações e demais trâmites deste processo seletiv
 o.6.2 Os casos omissos serão resolvidos pela Coordenação do Curso de Di
 reito\, ouvida a Pró-Reitoria Acadêmica.Belém/PA\, 22 de setembro de 20
 25.
 Prof. Vicente de Paulo Tavares NoronhaReitor do Centro Universitári
 o Fibra
DTSTART:20250922T140000Z
DTEND:20251009T170000Z
DTSTAMP:20250922T172406Z
ORGANIZER;CN=Portal de Eventos - Centro Universitário Fibra:MAILTO:eventos
 @fibrapara.edu.br
END:VEVENT
END:VCALENDAR