BEGIN:VCALENDAR
VERSION:2.0
PRODID:Events Booking
BEGIN:VEVENT
UID:69e9f9b907b22
SUMMARY:20 Anos do Curso de Direito
DESCRIPTION:O curso de Direito do Centro Universitário Fibra celebra seus 
 20 anos com a realização de um seminário voltado para o futuro do Pará
  e com foco na COP 30
 Em comemoração aos seus 20 anos\, o Curso de Dir
 eito da FIBRA realizará um seminário especial com o grande eixo temátic
 o \"Avanços das Instituições do Estado do Pará de 2005 a 2025 e Perspe
 ctivas para COP 30\". O evento reunirá renomados profissionais e autorida
 des do cenário jurídico e institucional paraense para discutir o passado
 \, presente e futuro do Estado.
 O seminário acontecerá nos dias 9 e 10
  de maio com atividades distribuídas nos turnos da manhã\, tarde e noite
  no primeiro dia\, e pela manhã no segundo dia.
 A programação foi cui
 dadosamente elaborada para cobrir um vasto leque de temas relevantes. Ser
 ão realizadas “rodas de conversa” a partir de palestras individuais m
 inistradas por representantes de importantes instituições\, como a OAB S
 eccional Pará\, Procuradoria Geral do Estado (PGE)\, Tribunal de Justiça
  do Pará (TJPA)\, Ministério Público do Pará (MPPA)\, Ministério Púb
 lico Federal (MPF)\, Tribunal Regional Eleitoral (TRE/PA)\, Tribunal Regio
 nal do Trabalho da 8ª Região (TRT8)\, Ministério Público do Trabalho (
 MPT PA)\, Defensoria Pública Geral (DPPA) e Polícia Civil (PCPA)\, além
  de juristas.
 Os temas abordados incluem:
 
 O papel das instituiçõe
 s (OAB\, TRE\, MP\, Defensoria) na defesa da sociedade\, da democracia e d
 os direitos\, inclusive sob a perspectiva da COP 30 e da justiça climáti
 ca.
 Os desafios e perspectivas para as instituições jurídicas e o jud
 iciário paraense diante da COP 30 e no contexto amazônico.
 Aspectos ju
 rídicos e práticos do mercado de crédito de carbono.
 A evolução do 
 Poder Judiciário no Pará nos últimos 20 anos.
 O combate ao crime orga
 nizado.
 Inovações tecnológicas e o uso de Inteligência Artificial no
  Direito.
 Diálogo institucional entre os poderes.
 
 Cada bloco de pa
 lestras será seguido por sessões de debate\, proporcionando um espaço p
 ara aprofundamento e troca de ideias entre palestrantes e público.
 O p
 úblico pode esperar um evento rico em conteúdo e discussões de alto ní
 vel. Será uma oportunidade única para:
 Compreender a Evolução Instit
 ucional: Ter uma visão panorâmica dos avanços e desafios enfrentados pe
 las principais instituições do Pará nas últimas duas décadas.Analisar
  o Cenário Atual: Debater os desafios jurídicos e sociais contemporâneo
 s do nosso Estado.Vislumbrar o Futuro: Discutir as perspectivas futuras\, 
 com destaque especial para a preparação do Pará para sediar a COP 30 e 
 as implicações legais e ambientais relacionadas.Interagir com Liderança
 s: Ouvir e interagir com especialistas das mais diversas áreas do Direito
  e da administração pública estadual.
 A programação do seminário a
 ponta para alguns desafios enfrentados pelo cenário jurídico no Pará\, 
 tais como a integração das questões ambientais\, o fortalecimento insti
 tucional e cooperação\, o acesso à justiça\, o combate à criminalidad
 e complexa\, as inovações tecnológicas voltadas ao mundo jurídico etc.
 
 Estamos a pouco mais de seis meses para a realização da COP 30 e send
 o o Pará o estado anfitrião da COP 30 e parte integrante da Amazônia\, 
 se faz urgente o debate jurídico-ambiental.
 Debater as questões ambien
 tais e jurídicas de forma conectada é crucial\, pois o sistema jurídico
  paraense tem um papel vital na proteção ambiental\, na regulação do u
 so da terra\, na garantia dos direitos dos povos tradicionais e no fomento
  ao desenvolvimento sustentável
 Em suma\, o seminário se apresenta com
 o um fórum essencial para refletir sobre a trajetória das instituições
  paraenses e alinhar as estratégias jurídicas e institucionais aos desaf
 ios globais representados pela crise climática\, tendo a COP 30 como um m
 arco catalisador para o futuro do nosso Estado.
 
LOCATION:Av. Gentil Bittencourt\, 1144.
DTSTART:20250509T110000Z
DTEND:20250510T160000Z
DTSTAMP:20250415T162347Z
ORGANIZER;CN=Portal de Eventos - Centro Universitário Fibra:MAILTO:eventos
 @fibrapara.edu.br
GEO:-1.455183;-48.482397
X-APPLE-STRUCTURED-LOCATION;VALUE=URI;X-ADDRESS=Av. Gentil Bittencourt\, 11
 44.;X-APPLE-RADIUS=72;X-TITLE=Centro Universitário Fibra:-1.455183;-48.48
 2397
END:VEVENT
END:VCALENDAR