BEGIN:VCALENDAR
VERSION:2.0
PRODID:Events Booking
BEGIN:VEVENT
UID:69e91ac789470
SUMMARY:II SIMPÓSIO DE ATUALIDADES EM MEDICINA VETERINÁRIA
DESCRIPTION:A disciplina optativa de Tópicos especiais em Veterinária\, v
 isando o aprimoramento dos alunos\, promove um evento contando com profiss
 ionais “experts” em diversas áreas que contemplam a disciplina\, cont
 ando com 3 palestras.
 Público-alvo: Alunos de Medicina Veterinária e M
 édicos Veterinários
 INSCRIÇÃO SOLIDÁRIA:&nbsp\;&nbsp\;1kg de raçã
 o para cães ou&nbsp\;gatos a ser entregue na entrada do evento.
 
DTSTART:20250411T170000Z
DTEND:20250411T200000Z
DTSTAMP:20250404T172347Z
ORGANIZER;CN=Portal de Eventos - Centro Universitário Fibra:MAILTO:eventos
 @fibrapara.edu.br
END:VEVENT
END:VCALENDAR