BEGIN:VCALENDAR
VERSION:2.0
PRODID:Events Booking
BEGIN:VEVENT
UID:69e9fe3c2999e
SUMMARY:II JORNADA DE PSICOLOGIA SOCIAL E MOVIMENTOS SOCIAIS NA AMAZÔNIA
DESCRIPTION:Como disciplina que se propõe estudar a interrelação entre o
  comportamento individual e o funcionamento social em seu sentido mais amp
 lo\, a Psicologia Social no Brasil vem ganhando importância não somente 
 em seu sentido institucional como disciplina universitária nas graduaçõ
 es e pós-graduações dos cursos de psicologia\, mas\, sobretudo\, como u
 ma forma de intervenção prática a respeito da sociedade brasileira.
 &
 nbsp\;&nbsp\;&nbsp\;&nbsp\;&nbsp\;&nbsp\;&nbsp\;&nbsp\;&nbsp\;&nbsp\;&nbsp
 \; Talvez o exemplo mais candente desse fato seja o franco crescimento –
  em importância e produção – da Associação Brasileira de Psicologia
  Social (ABRAPSO) que\, desde 1980\, vem se constituindo como um espaço f
 undamental de promoção de intervenções fortemente assentadas em um pos
 icionamento crítico acerca de composições prático-discursivas que favo
 recem um viés naturalizante e a-histórico no processo de produção de c
 onhecimento do campo Psi.
 &nbsp\;&nbsp\;&nbsp\;&nbsp\;&nbsp\;&nbsp\;&nbs
 p\;&nbsp\;&nbsp\;&nbsp\;&nbsp\; Atentos a essas importantes questões e ob
 jetivando contribuir para o aprofundamento de um amplo debate que leve em 
 consideração o contexto amazônico na produção de saberes em Psicologi
 a Social\, e em estrita observância ao artigo IV do Regimento Geral da In
 stituição (ver Título II – Dos Objetivos Institucionais)\, propomos a
  Jornada de Psicologia Social do Centro Universitário FIBRA como uma ativ
 idade de promoção da articulação entre discentes da graduação em Psi
 cologia e outros cursos de Ciências Humanas da nossa instituição.
 Nos
 so objetivo é promover não somente a maior visibilidade das produções 
 discentes em Psicologia Social por meio da exposição de painéis e debat
 es em mesa-redonda dos trabalhos realizados ou em realização no curso\, 
 como também criar um espaço democrático de discussão teórica e práti
 ca com profissionais\, estudantes de outras IES da nossa região e represe
 ntantes dos movimentos sociais.
 Se em nosso primeiro encontro trabalhamo
 s o tema Psicologia Social e sua relação com os movimentos sociais na Am
 azônia de forma mais abrangente no sentido de permitir uma discussão mai
 s plural do ponto de vista epistemológico e conceitual\, a nossa II Jorna
 da de Psicologia Social e Movimentos Sociais na Amazônia\, que ocorrerá 
 nos dias 29 e 30 de maio de 2025\, vincula a diversidade dessas discussõe
 s à urgência de um tema fundamental que atravessa não somente os vário
 s contextos teórico-práticos em que as psicologias transitam como aparec
 em de forma decisiva no cotidianos das lutas encampadas pelos movimentos s
 ociais: a saúde e o sofrimento mental.
 &nbsp\;
 - Gratuito para alunos
  Fibra\, com doação de 1kg de alimento não perecível e/ou kit de mater
 ial de pintura\, desenho e congêneres\, a serem doados aos usuários do C
 APSi.
 - R$ 20\,00 discentes e demais interessados (externos)\, com doaç
 ão de 1kg de alimento não perecível e/ou kit de material de pintura\, d
 esenho e congêneres\, a serem doados aos usuários do CAPSi.
 
LOCATION:Av. Gentil Bittencourt\, 1144.
DTSTART:20250529T110000Z
DTEND:20250530T230000Z
DTSTAMP:20250512T142417Z
ORGANIZER;CN=Portal de Eventos - Centro Universitário Fibra:MAILTO:eventos
 @fibrapara.edu.br
GEO:-1.455183;-48.482397
X-APPLE-STRUCTURED-LOCATION;VALUE=URI;X-ADDRESS=Av. Gentil Bittencourt\, 11
 44.;X-APPLE-RADIUS=72;X-TITLE=Centro Universitário Fibra:-1.455183;-48.48
 2397
END:VEVENT
END:VCALENDAR