BEGIN:VCALENDAR
VERSION:2.0
PRODID:Events Booking
BEGIN:VEVENT
UID:69e907bd2893b
SUMMARY:II JORNADA DE FISIOTERAPIA DA FIBRA
DESCRIPTION:A II Jornada de Fisioterapia do Centro Universitário Fibra é 
 um evento que têm como objetivo aproximar os acadêmicos do mercado de tr
 abalho do fisioterapeuta\, bem como o conhecimento de técnicas fisioterap
 êuticas baseadas em evidências científicas\, através de palestras e me
 sas redondas com profissionais renomados na área.Essa jornada também é 
 alusiva à comemoração do dia do fisioterapeuta que ocorre no dia 13 de 
 outubro\, e ocorrerá nos dias 19 e 20 de outubro no período na manhã e 
 noite. Além disso serão recebidos trabalhos em formato de resumo que ser
 ão apresentados no formato de banner.
 
LOCATION:Av. Gentil Bittencourt\, 1144.
DTSTART:20231019T110000Z
DTEND:20231021T010000Z
DTSTAMP:20231006T161115Z
ORGANIZER;CN=Portal de Eventos - Centro Universitário Fibra:MAILTO:eventos
 @fibrapara.edu.br
GEO:-1.455183;-48.482397
X-APPLE-STRUCTURED-LOCATION;VALUE=URI;X-ADDRESS=Av. Gentil Bittencourt\, 11
 44.;X-APPLE-RADIUS=72;X-TITLE=Centro Universitário Fibra:-1.455183;-48.48
 2397
END:VEVENT
END:VCALENDAR