BEGIN:VCALENDAR
VERSION:2.0
PRODID:Events Booking
BEGIN:VEVENT
UID:69e9fe3633116
SUMMARY:II Jornada de Enfermagem: Atualidades e Inovação na  Prática Pro
 fissional
DESCRIPTION:O Futuro da Enfermagem em Debate: II Jornada de Enfermagem como
  Impulso para a Excelência Profissional
 A&nbsp\;II Jornada de Enfermage
 m do Centro Universitário FIBRA&nbsp\;emerge como um marco importante par
 a a contínua evolução e aprimoramento da nossa profissão. Em um cenár
 io de avanços tecnológicos e mudanças constantes na saúde\, a busca po
 r conhecimento e o aperfeiçoamento profissional não são mais opcionais\
 , mas uma necessidade fundamental. Este evento não é apenas uma reunião
  de profissionais\; é um catalisador de ideias\, uma plataforma de aprend
 izado e um espaço vital para a troca de experiências que moldarão o fut
 uro da Enfermagem.
 Participar da jornada é um investimento direto na su
 a carreira. O evento foi cuidadosamente planejado para abordar temas de va
 nguarda\, desde as mais recentes inovações em curativos e terapias até 
 discussões aprofundadas sobre gestão\, ética e saúde mental do profiss
 ional. Cada palestra\, workshop e debate é uma oportunidade de absorver n
 ovos conceitos\, dominar técnicas avançadas e entender as tendências qu
 e estão redefinindo o cuidado ao paciente.
 Além do conhecimento técni
 co\, a Jornada oferece a chance inestimável de expandir sua rede de conta
 tos. A interação com colegas\, especialistas e líderes de opinião não
  só enriquece o debate\, mas também abre portas para colaborações futu
 ras e novas perspectivas de carreira. É o ambiente perfeito para renovar 
 a paixão pela profissão e encontrar inspiração nos desafios e conquist
 as de outros.
 O&nbsp\;evento representa um compromisso com a excelência
 . Ao se envolver\, você não apenas se capacita para ser um profissional 
 mais completo\, mas também contribui para fortalecer a Enfermagem como um
 a ciência dinâmica e indispensável. É a sua oportunidade de estar na v
 anguarda do cuidado\, pronto para enfrentar os desafios do amanhã com a s
 egurança e a competência que só o conhecimento contínuo pode proporcio
 nar.
 INSCRIÇÃO SOLIDÁRIA: 1kg de alimento não perecível
 
LOCATION:Av. Gentil Bittencourt\, 1144.
DTSTART:20250929T110000Z
DTEND:20250930T210000Z
DTSTAMP:20250902T203337Z
ORGANIZER;CN=Portal de Eventos - Centro Universitário Fibra:MAILTO:eventos
 @fibrapara.edu.br
GEO:-1.455183;-48.482397
X-APPLE-STRUCTURED-LOCATION;VALUE=URI;X-ADDRESS=Av. Gentil Bittencourt\, 11
 44.;X-APPLE-RADIUS=72;X-TITLE=Centro Universitário Fibra:-1.455183;-48.48
 2397
END:VEVENT
END:VCALENDAR