BEGIN:VCALENDAR
VERSION:2.0
PRODID:Events Booking
BEGIN:VEVENT
UID:69e9019587933
SUMMARY:II JOAN - JORNADA ACADÊMICA DE NUTRIÇÃO
DESCRIPTION:&nbsp\;II JOAN - JORNADA ACADÊMICA DE NUTRIÇÃO\"Nutrição e
 m movimento - Saberes Amazônicos no Esporte e na Saúde\"
 &nbsp\;O conh
 ecimento amazônico sobre nutrição e saúde oferece uma rica fonte de in
 spiração para o esporte e o bem-estar. A vasta biodiversidade da região
  proporciona uma variedade de alimentos naturais que são altamente nutrit
 ivos e benéficos para o desempenho físico. Frutas como açaí\, cupuaçu
  e castanha-do-pará são conhecidas por seus altos teores de antioxidante
 s\, vitaminas e minerais\, que ajudam na recuperação muscular e no aumen
 to da resistência. Além disso\, as práticas tradicionais de alimentaç
 ão e os saberes indígenas sobre plantas medicinais podem complementar pr
 ogramas de treinamento esportivo e regimes de saúde\, promovendo um equil
 íbrio holístico entre corpo e mente. Incorporar esses elementos da sabed
 oria amazônica pode não apenas melhorar o desempenho atlético\, mas tam
 bém incentivar a preservação cultural e ambiental dessa região única.
 
 
 &nbsp\;
LOCATION:Av. Gentil Bittencourt\, 1144.
DTSTART:20251103T170000Z
DTEND:20251104T200000Z
DTSTAMP:20250916T155159Z
ORGANIZER;CN=Portal de Eventos - Centro Universitário Fibra:MAILTO:eventos
 @fibrapara.edu.br
GEO:-1.455183;-48.482397
X-APPLE-STRUCTURED-LOCATION;VALUE=URI;X-ADDRESS=Av. Gentil Bittencourt\, 11
 44.;X-APPLE-RADIUS=72;X-TITLE=Centro Universitário Fibra:-1.455183;-48.48
 2397
END:VEVENT
END:VCALENDAR