BEGIN:VCALENDAR
VERSION:2.0
PRODID:Events Booking
BEGIN:VEVENT
UID:69e9fe1ca7404
SUMMARY:Dia do Enfermeiro de Fibra
DESCRIPTION:Convidamos toda a Comunidade Acadêmica de Enfermagem turmas Ma
 nhã e Noite para participar do evento em alusão ao Dia do Enfermeiro.
 
 &nbsp\;INSCRIÇÃO SOLIDÁRIA: 1 quilo de alimento não-perecível na entr
 ada do evento
 
 
 
 
 DIA 15/05/2024 manhã
 
 
 
 
 CREDENCIAM
 ENTO – LEITURA QRCODE
 ABERTURA 
 08:30 08:40
 
 
 ABERTURA: Coorde
 nação Enfermagem Profa Msc. Cinthia Brigida Brito de Moraes e
 Docentes
  de Enfermagem
 
 
 
 
 08:40 – 09:30
 
 
 Hino da Enfermagem
 
 Homenagem a “Dama da Lâmpada” Florence Nightingale
 
 
 
 
 09:3
 0 – 10:20
 
 
 A enfermagem como profissão do futuro: com a inovaç
 ão tecnológica no contexto amazônico.
 Facilitadora: Profa Msc. Cinthi
 a Brigida&nbsp\; 
 
 
 
 
 10:30 – 12:00 
 
 
 Mesa redonda: Emp
 reendedorismo e Inovação em enfermagem
 Profa Msc. Nádia Pinheiro da C
 osta\, 
 Profa Msc. Valquiria Gomes\, 
 Profa Msc. Socorro Dionizio e 

  Profa Msc.&nbsp\; Benedita Abreu.
 10 min para cada membro
 05 min para
  perguntas
 
 
 
 
 SORTEIO DE BRINDE
 
 
 
 
 12:00 – 12:30

  
 
 Exposição de poster eletrônico espaço de Convivência
 
 
 
 
 
LOCATION:Av. Gentil Bittencourt\, 1144.
DTSTART:20240515T113000Z
DTEND:20240515T153000Z
DTSTAMP:20240413T151016Z
ORGANIZER;CN=Portal de Eventos - Centro Universitário Fibra:MAILTO:eventos
 @fibrapara.edu.br
GEO:-1.455183;-48.482397
X-APPLE-STRUCTURED-LOCATION;VALUE=URI;X-ADDRESS=Av. Gentil Bittencourt\, 11
 44.;X-APPLE-RADIUS=72;X-TITLE=Centro Universitário Fibra:-1.455183;-48.48
 2397
END:VEVENT
END:VCALENDAR