BEGIN:VCALENDAR
VERSION:2.0
PRODID:Events Booking
BEGIN:VEVENT
UID:69e9020715173
SUMMARY:1º Workshop de Química Medicinal da LAQM
DESCRIPTION:Inscrição Solidária: 1kg de alimento não perecível entregu
 e no momento do evento.
 
LOCATION:Av. Gentil Bittencourt\, 1144.
DTSTART:20250321T180000Z
DTEND:20250321T200000Z
DTSTAMP:20250319T162436Z
ORGANIZER;CN=Portal de Eventos - Centro Universitário Fibra:MAILTO:eventos
 @fibrapara.edu.br
GEO:-1.455183;-48.482397
X-APPLE-STRUCTURED-LOCATION;VALUE=URI;X-ADDRESS=Av. Gentil Bittencourt\, 11
 44.;X-APPLE-RADIUS=72;X-TITLE=Centro Universitário Fibra:-1.455183;-48.48
 2397
END:VEVENT
END:VCALENDAR