BEGIN:VCALENDAR
VERSION:2.0
PRODID:Events Booking
BEGIN:VEVENT
UID:69e9076321a05
SUMMARY:1ª Mostra Científica do curso de Fisioterapia do Centro Universit
 ário Fibra 
DESCRIPTION:A prática clínica baseada em boas evidêcias científicas na 
 busca de uma atuação fisioterapêutica mais eficaz e segura para o pacie
 nte ganham destaque na atualidade. Diante disso\, por meio da montagem da 
 Mostra Científica do Centro Universitário FIBRA - Buscando Evidências p
 ara a Prática Fisioterapêutica\, espera-se envolver professores e alunos
  na construção acerca dos conhecimentos científicos\, desenvolvendo hab
 ilidades de pesquisa e raciocínio científico.
 
LOCATION:Av. Gentil Bittencourt\, 1144.
DTSTART:20241128T210000Z
DTEND:20241129T010000Z
DTSTAMP:20241118T145722Z
ORGANIZER;CN=Portal de Eventos - Centro Universitário Fibra:MAILTO:eventos
 @fibrapara.edu.br
GEO:-1.455183;-48.482397
X-APPLE-STRUCTURED-LOCATION;VALUE=URI;X-ADDRESS=Av. Gentil Bittencourt\, 11
 44.;X-APPLE-RADIUS=72;X-TITLE=Centro Universitário Fibra:-1.455183;-48.48
 2397
END:VEVENT
END:VCALENDAR