BEGIN:VCALENDAR
VERSION:2.0
PRODID:Events Booking
BEGIN:VEVENT
UID:69e9031346d53
SUMMARY:I CICLO DE PALESTRAS DE VIDA SILVESTRE
DESCRIPTION:O “I Ciclo de Palestras de Vida Silvestre” é uma iniciativ
 a da Liga Acadêmica de Vida Exótica e Silvestre do curso de Medicina Vet
 erinária do Centro Universitário FIBRA. O evento acontecerá no dia 06/1
 1/2024\, começando às 14h e trará palestras com profissionais das área
 s de biologia e Medicina Veterinária\, abordando temas essenciais para qu
 em se interessa pela vida selvagem e silvestre.
 Público alvo: Acadêmic
 os de Medicina Veterinária e Médicos Veterinários
 
LOCATION:Av. Gentil Bittencourt\, 1144.
DTSTART:20241106T170000Z
DTEND:20241106T210000Z
DTSTAMP:20241031T162046Z
ORGANIZER;CN=Portal de Eventos - Centro Universitário Fibra:MAILTO:eventos
 @fibrapara.edu.br
GEO:-1.455183;-48.482397
X-APPLE-STRUCTURED-LOCATION;VALUE=URI;X-ADDRESS=Av. Gentil Bittencourt\, 11
 44.;X-APPLE-RADIUS=72;X-TITLE=Centro Universitário Fibra:-1.455183;-48.48
 2397
END:VEVENT
END:VCALENDAR